BEGIN:VCALENDAR
VERSION:2.0
PRODID:-//hacksw/handcal//NONSGML v1.0//EN
X-WR-TIMEZONE:America/New_York
BEGIN:VEVENT
UID:7bd40101ea6980cd5f595f5b136ccb81
FREEBUSY;FBTYPE=BUSY;VALUE=PERIOD:20250101/P1D
X-MICROSOFT-CDO-BUSYSTATUS:BUSY
DTSTART;VALUE=DATE:20250101
DTEND;VALUE=DATE:20250102
SUMMARY:New Year's Day
END:VEVENT
BEGIN:VEVENT
UID:17ef9de6eb9d6693f0b9be6ce830d666
FREEBUSY;FBTYPE=BUSY;VALUE=PERIOD:20250120/P1D
X-MICROSOFT-CDO-BUSYSTATUS:BUSY
DTSTART;VALUE=DATE:20250120
DTEND;VALUE=DATE:20250121
SUMMARY:Dr. Martin Luther King Jr.'s Birthday
END:VEVENT
BEGIN:VEVENT
UID:0e8dec2ae1f012de773c9a31e3b270fe
FREEBUSY;FBTYPE=BUSY;VALUE=PERIOD:20250526/P1D
X-MICROSOFT-CDO-BUSYSTATUS:BUSY
DTSTART;VALUE=DATE:20250526
DTEND;VALUE=DATE:20250527
SUMMARY:Memorial Day
END:VEVENT
BEGIN:VEVENT
UID:c9bf1e17be047ecb48e55c08f10bff9e
FREEBUSY;FBTYPE=BUSY;VALUE=PERIOD:20250704/P1D
X-MICROSOFT-CDO-BUSYSTATUS:BUSY
DTSTART;VALUE=DATE:20250704
DTEND;VALUE=DATE:20250705
SUMMARY:Independence Day
END:VEVENT
BEGIN:VEVENT
UID:fdc5a8f4c9bb42d28553111b4603b258
FREEBUSY;FBTYPE=BUSY;VALUE=PERIOD:20250901/P1D
X-MICROSOFT-CDO-BUSYSTATUS:BUSY
DTSTART;VALUE=DATE:20250901
DTEND;VALUE=DATE:20250902
SUMMARY:Labor Day
END:VEVENT
BEGIN:VEVENT
UID:0ae678c7f609068842035cb43cd50a59
FREEBUSY;FBTYPE=BUSY;VALUE=PERIOD:20251111/P1D
X-MICROSOFT-CDO-BUSYSTATUS:BUSY
DTSTART;VALUE=DATE:20251111
DTEND;VALUE=DATE:20251112
SUMMARY:Veterans Day
END:VEVENT
BEGIN:VEVENT
UID:efaf7b8dd09b2a4dc6797a7acb433c73
FREEBUSY;FBTYPE=BUSY;VALUE=PERIOD:20251127/P1D
X-MICROSOFT-CDO-BUSYSTATUS:BUSY
DTSTART;VALUE=DATE:20251127
DTEND;VALUE=DATE:20251129
SUMMARY:Thanksgiving
END:VEVENT
BEGIN:VEVENT
UID:cb15fea2d0b1a4679f7629f6fa6da293
FREEBUSY;FBTYPE=BUSY;VALUE=PERIOD:20251224/P1D
X-MICROSOFT-CDO-BUSYSTATUS:BUSY
DTSTART;VALUE=DATE:20251224
DTEND;VALUE=DATE:20251227
SUMMARY:Winter Break
END:VEVENT
BEGIN:VEVENT
UID:1e22485f66ca66b4e799647f0d8cf92a
FREEBUSY;FBTYPE=BUSY;VALUE=PERIOD:20251229/P1D
X-MICROSOFT-CDO-BUSYSTATUS:BUSY
DTSTART;VALUE=DATE:20251229
DTEND;VALUE=DATE:20251231
SUMMARY:System Office Closed Days
END:VEVENT
END:VCALENDAR
